BEGIN:VCALENDAR
VERSION:2.0
PRODID:-//Dorpsraad Oostrum - ECPv6.10.2//NONSGML v1.0//EN
CALSCALE:GREGORIAN
METHOD:PUBLISH
X-ORIGINAL-URL:https://www.dorpsraadoostrum.nl
X-WR-CALDESC:Evenementen voor Dorpsraad Oostrum
REFRESH-INTERVAL;VALUE=DURATION:PT1H
X-Robots-Tag:noindex
X-PUBLISHED-TTL:PT1H
BEGIN:VTIMEZONE
TZID:Europe/Amsterdam
BEGIN:DAYLIGHT
TZOFFSETFROM:+0100
TZOFFSETTO:+0200
TZNAME:CEST
DTSTART:20260329T010000
END:DAYLIGHT
BEGIN:STANDARD
TZOFFSETFROM:+0200
TZOFFSETTO:+0100
TZNAME:CET
DTSTART:20261025T010000
END:STANDARD
END:VTIMEZONE
BEGIN:VEVENT
DTSTART;TZID=Europe/Amsterdam:20260911T150000
DTEND;TZID=Europe/Amsterdam:20260915T010000
DTSTAMP:20260426T032054
CREATED:20260331T161359Z
LAST-MODIFIED:20260331T161359Z
UID:25707-1789138800-1789434000@www.dorpsraadoostrum.nl
SUMMARY:Kermis Oostrum
DESCRIPTION:
URL:https://www.dorpsraadoostrum.nl/kalender/kermis-oostrum/
LOCATION:Dorpsplein\, Oostrum\, Limburg\, 5807 BC\, Nederland
END:VEVENT
BEGIN:VEVENT
DTSTART;VALUE=DATE:20261107
DTEND;VALUE=DATE:20261108
DTSTAMP:20260426T032054
CREATED:20260302T122835Z
LAST-MODIFIED:20260302T122835Z
UID:25373-1794009600-1794095999@www.dorpsraadoostrum.nl
SUMMARY:Òs Gemis
DESCRIPTION:
URL:https://www.dorpsraadoostrum.nl/kalender/os-gemis/
LOCATION:Begraafplaats Trans Cedron\, Meijerlaan\, Oostrum\, Limburg\, 5807 BL\, Nederland
ORGANIZER;CN="%C3%92s Gemis":MAILTO:osgemis@gmail.com
END:VEVENT
END:VCALENDAR