BEGIN:VCALENDAR
VERSION:2.0
PRODID:-//Dorpsraad Oostrum - ECPv6.10.2//NONSGML v1.0//EN
CALSCALE:GREGORIAN
METHOD:PUBLISH
X-WR-CALNAME:Dorpsraad Oostrum
X-ORIGINAL-URL:https://www.dorpsraadoostrum.nl
X-WR-CALDESC:Evenementen voor Dorpsraad Oostrum
REFRESH-INTERVAL;VALUE=DURATION:PT1H
X-Robots-Tag:noindex
X-PUBLISHED-TTL:PT1H
BEGIN:VTIMEZONE
TZID:Europe/Amsterdam
BEGIN:DAYLIGHT
TZOFFSETFROM:+0100
TZOFFSETTO:+0200
TZNAME:CEST
DTSTART:20260329T010000
END:DAYLIGHT
BEGIN:STANDARD
TZOFFSETFROM:+0200
TZOFFSETTO:+0100
TZNAME:CET
DTSTART:20261025T010000
END:STANDARD
END:VTIMEZONE
BEGIN:VEVENT
DTSTART;TZID=Europe/Amsterdam:20260426T090000
DTEND;TZID=Europe/Amsterdam:20260426T090000
DTSTAMP:20260425T164552
CREATED:20260414T123717Z
LAST-MODIFIED:20260414T123717Z
UID:25727-1777194000-1777194000@www.dorpsraadoostrum.nl
SUMMARY:Hoogmis\, Parochie
DESCRIPTION:
URL:https://www.dorpsraadoostrum.nl/kalender/hoogmis-parochie/
LOCATION:OLV Geboorte Kerk\, Oostrum\, Mgr. Hanssenstraat 22\, Oostrum\, Limburg\, 5807BD\, Nederland
ORGANIZER;CN="Federatie Maria Boodschap":MAILTO:info@Maria-Boodschap.nl
END:VEVENT
BEGIN:VEVENT
DTSTART;TZID=Europe/Amsterdam:20260426T140000
DTEND;TZID=Europe/Amsterdam:20260426T160000
DTSTAMP:20260425T164552
CREATED:20260317T141711Z
LAST-MODIFIED:20260317T141711Z
UID:25519-1777212000-1777219200@www.dorpsraadoostrum.nl
SUMMARY:Gezellig zondagmiddag\, Servicepunt Oostrum
DESCRIPTION:
URL:https://www.dorpsraadoostrum.nl/kalender/gezellig-zondagmiddag-servicepunt-oostrum-2/
LOCATION:De Watermolen\, Campsmolen\, Buitenhof 2\, Oostrum\, Limburg\, 5807BW\, Netherlands
END:VEVENT
BEGIN:VEVENT
DTSTART;TZID=Europe/Amsterdam:20260427T130000
DTEND;TZID=Europe/Amsterdam:20260427T180000
DTSTAMP:20260425T164552
CREATED:20260414T130159Z
LAST-MODIFIED:20260418T112100Z
UID:25757-1777294800-1777312800@www.dorpsraadoostrum.nl
SUMMARY:Koningsdagmiddag\, Dorpsraad Oostrum
DESCRIPTION:
URL:https://www.dorpsraadoostrum.nl/kalender/koningsdagmiddag-dorpsraad-oostrum/
LOCATION:Speeltuin ‘Fort bij de Pumptrack’
ORGANIZER;CN="Dorpsraad Oostrum":MAILTO:info@dorpsraadoostrum.nl
END:VEVENT
BEGIN:VEVENT
DTSTART;TZID=Europe/Amsterdam:20260428T090000
DTEND;TZID=Europe/Amsterdam:20260428T090000
DTSTAMP:20260425T164552
CREATED:20260414T123641Z
LAST-MODIFIED:20260414T123641Z
UID:25728-1777366800-1777366800@www.dorpsraadoostrum.nl
SUMMARY:Rozenkransgebed en heilige mis in de Mariakapel\, Parochie
DESCRIPTION:
URL:https://www.dorpsraadoostrum.nl/kalender/rozenkransgebed-en-heilige-mis-in-de-mariakapel-parochie-2/
LOCATION:OLV Geboorte Kerk\, Oostrum\, Mgr. Hanssenstraat 22\, Oostrum\, Limburg\, 5807BD\, Nederland
ORGANIZER;CN="Federatie Maria Boodschap":MAILTO:info@Maria-Boodschap.nl
END:VEVENT
BEGIN:VEVENT
DTSTART;TZID=Europe/Amsterdam:20260428T200000
DTEND;TZID=Europe/Amsterdam:20260428T200000
DTSTAMP:20260425T164552
CREATED:20260414T124811Z
LAST-MODIFIED:20260414T124811Z
UID:25747-1777406400-1777406400@www.dorpsraadoostrum.nl
SUMMARY:Repetitie orkest in Leunen\, SMT
DESCRIPTION:
URL:https://www.dorpsraadoostrum.nl/kalender/repetitie-orkest-in-leunen-smt/
END:VEVENT
BEGIN:VEVENT
DTSTART;TZID=Europe/Amsterdam:20260429T084500
DTEND;TZID=Europe/Amsterdam:20260429T091500
DTSTAMP:20260425T164552
CREATED:20260327T131032Z
LAST-MODIFIED:20260327T131032Z
UID:25563-1777452300-1777454100@www.dorpsraadoostrum.nl
SUMMARY:Bewegen\, VOS
DESCRIPTION:
URL:https://www.dorpsraadoostrum.nl/kalender/bewegen-vos-5/
LOCATION:De Watermolen\, Campsmolen\, Buitenhof 2\, Oostrum\, Limburg\, 5807BW\, Netherlands
END:VEVENT
BEGIN:VEVENT
DTSTART;TZID=Europe/Amsterdam:20260429T093000
DTEND;TZID=Europe/Amsterdam:20260429T113000
DTSTAMP:20260425T164552
CREATED:20260327T130259Z
LAST-MODIFIED:20260327T130319Z
UID:25551-1777455000-1777462200@www.dorpsraadoostrum.nl
SUMMARY:Inloopmorgen\, VOS
DESCRIPTION:
URL:https://www.dorpsraadoostrum.nl/kalender/inloopmorgen-vos-5/
LOCATION:De Watermolen\, Campsmolen\, Buitenhof 2\, Oostrum\, Limburg\, 5807BW\, Netherlands
END:VEVENT
BEGIN:VEVENT
DTSTART;TZID=Europe/Amsterdam:20260429T120000
DTEND;TZID=Europe/Amsterdam:20260429T120000
DTSTAMP:20260425T164552
CREATED:20260331T154611Z
LAST-MODIFIED:20260331T154611Z
UID:25703-1777464000-1777464000@www.dorpsraadoostrum.nl
SUMMARY:Eetpunt d'n Oesterham\, D'n Oesterham
DESCRIPTION:
URL:https://www.dorpsraadoostrum.nl/kalender/eetpunt-dn-oesterham-dn-oesterham/
LOCATION:Dorps Service Centrum D’n Oesterham\, Watermolenstraat 1\, Oostrum\, Limburg\, 5807 BJ\, Netherlands
END:VEVENT
BEGIN:VEVENT
DTSTART;TZID=Europe/Amsterdam:20260429T143000
DTEND;TZID=Europe/Amsterdam:20260429T143000
DTSTAMP:20260425T164552
CREATED:20260331T154739Z
LAST-MODIFIED:20260414T125050Z
UID:25705-1777473000-1777473000@www.dorpsraadoostrum.nl
SUMMARY:Muziekmiddag met afd. Rooy\, Oicastrum
DESCRIPTION:
URL:https://www.dorpsraadoostrum.nl/kalender/muziekmiddag-met-afd-rooy-oicastrum/
LOCATION:het Schopke\, Veltumse Kleffen 70B Venray
END:VEVENT
BEGIN:VEVENT
DTSTART;TZID=Europe/Amsterdam:20260429T193000
DTEND;TZID=Europe/Amsterdam:20260429T193000
DTSTAMP:20260425T164552
CREATED:20260331T154407Z
LAST-MODIFIED:20260331T154407Z
UID:25701-1777491000-1777491000@www.dorpsraadoostrum.nl
SUMMARY:Wijnproeverij\, ZijActief Oostrum
DESCRIPTION:
URL:https://www.dorpsraadoostrum.nl/kalender/wijnproeverij-zijactief-oostrum/
LOCATION:De Watermolen\, Campsmolen\, Buitenhof 2\, Oostrum\, Limburg\, 5807BW\, Netherlands
ORGANIZER;CN="ZijActief Oostrum":MAILTO:secr.zijactiefoostrum@hotmail.com
END:VEVENT
BEGIN:VEVENT
DTSTART;TZID=Europe/Amsterdam:20260430T090000
DTEND;TZID=Europe/Amsterdam:20260430T090000
DTSTAMP:20260425T164552
CREATED:20260327T130830Z
LAST-MODIFIED:20260327T130830Z
UID:25555-1777539600-1777539600@www.dorpsraadoostrum.nl
SUMMARY:Biljarten\, VOS
DESCRIPTION:
URL:https://www.dorpsraadoostrum.nl/kalender/biljarten-vos-5/
LOCATION:De Watermolen\, Campsmolen\, Buitenhof 2\, Oostrum\, Limburg\, 5807BW\, Netherlands
END:VEVENT
BEGIN:VEVENT
DTSTART;TZID=Europe/Amsterdam:20260502T150000
DTEND;TZID=Europe/Amsterdam:20260502T163500
DTSTAMP:20260425T164552
CREATED:20260420T121100Z
LAST-MODIFIED:20260423T002807Z
UID:25773-1777734000-1777739700@www.dorpsraadoostrum.nl
SUMMARY:Programma Jeugd\, SVO
DESCRIPTION:
URL:https://www.dorpsraadoostrum.nl/kalender/programma-jeugd-svo/
ORGANIZER;CN="S.V. Oostrum":MAILTO:info@svoostrum.nl
END:VEVENT
BEGIN:VEVENT
DTSTART;TZID=Europe/Amsterdam:20260503T143000
DTEND;TZID=Europe/Amsterdam:20260503T143000
DTSTAMP:20260425T164552
CREATED:20260317T134234Z
LAST-MODIFIED:20260331T154121Z
UID:25471-1777818600-1777818600@www.dorpsraadoostrum.nl
SUMMARY:Concert in Asteria - Die Edelweisskapelle\, Oicastrum
DESCRIPTION:
URL:https://www.dorpsraadoostrum.nl/kalender/der-egerlander-erlebnis-oicastrum/
LOCATION:Asteria\, Maasheseweg 80A\, Venray\, Limburg\, 5804 AD\, Nederland
END:VEVENT
BEGIN:VEVENT
DTSTART;TZID=Europe/Amsterdam:20260504T183000
DTEND;TZID=Europe/Amsterdam:20260504T183000
DTSTAMP:20260425T164552
CREATED:20260331T153511Z
LAST-MODIFIED:20260331T153511Z
UID:25690-1777919400-1777919400@www.dorpsraadoostrum.nl
SUMMARY:4-mei Herdenking Leunen en Oostrum\, SMT
DESCRIPTION:
URL:https://www.dorpsraadoostrum.nl/kalender/4-mei-herdenking-leunen-en-oostrum-smt/
END:VEVENT
BEGIN:VEVENT
DTSTART;TZID=Europe/Amsterdam:20260505T133000
DTEND;TZID=Europe/Amsterdam:20260505T133000
DTSTAMP:20260425T164552
CREATED:20260217T145325Z
LAST-MODIFIED:20260331T133842Z
UID:25260-1777987800-1777987800@www.dorpsraadoostrum.nl
SUMMARY:Crea: Vaas versieren met lijmvernis o.l.v. Tonny Duijn. Een klein vaasje meenemen\, VOS
DESCRIPTION:
URL:https://www.dorpsraadoostrum.nl/kalender/crea-activiteit-o-l-v-tonny-duijn-vos/
LOCATION:De Watermolen\, Campsmolen\, Buitenhof 2\, Oostrum\, Limburg\, 5807BW\, Netherlands
ORGANIZER;CN="Els Hermsen%2C VOS":MAILTO:elshermsen@gmail.com
END:VEVENT
BEGIN:VEVENT
DTSTART;TZID=Europe/Amsterdam:20260506T083000
DTEND;TZID=Europe/Amsterdam:20260506T200000
DTSTAMP:20260425T164552
CREATED:20260331T132812Z
LAST-MODIFIED:20260404T143826Z
UID:25627-1778056200-1778097600@www.dorpsraadoostrum.nl
SUMMARY:Dagreis Biesbosch 3-dorpen\, VOS
DESCRIPTION:
URL:https://www.dorpsraadoostrum.nl/kalender/dagreis-biesbosch-3-dorpen-vos/
LOCATION:Bij de kerk in Oostrum
END:VEVENT
BEGIN:VEVENT
DTSTART;TZID=Europe/Amsterdam:20260506T084500
DTEND;TZID=Europe/Amsterdam:20260506T091500
DTSTAMP:20260425T164552
CREATED:20260331T130929Z
LAST-MODIFIED:20260331T130929Z
UID:25602-1778057100-1778058900@www.dorpsraadoostrum.nl
SUMMARY:Bewegen\, VOS
DESCRIPTION:
URL:https://www.dorpsraadoostrum.nl/kalender/bewegen-vos-6/
LOCATION:De Watermolen\, Campsmolen\, Buitenhof 2\, Oostrum\, Limburg\, 5807BW\, Netherlands
END:VEVENT
BEGIN:VEVENT
DTSTART;TZID=Europe/Amsterdam:20260506T093000
DTEND;TZID=Europe/Amsterdam:20260506T113000
DTSTAMP:20260425T164552
CREATED:20260331T131708Z
LAST-MODIFIED:20260331T131708Z
UID:25618-1778059800-1778067000@www.dorpsraadoostrum.nl
SUMMARY:Inloopmorgen\, VOS
DESCRIPTION:
URL:https://www.dorpsraadoostrum.nl/kalender/inloopmorgen-vos-6/
LOCATION:De Watermolen\, Campsmolen\, Buitenhof 2\, Oostrum\, Limburg\, 5807BW\, Netherlands
END:VEVENT
BEGIN:VEVENT
DTSTART;TZID=Europe/Amsterdam:20260506T190000
DTEND;TZID=Europe/Amsterdam:20260506T203500
DTSTAMP:20260425T164552
CREATED:20260423T002720Z
LAST-MODIFIED:20260423T002720Z
UID:25777-1778094000-1778099700@www.dorpsraadoostrum.nl
SUMMARY:Programma Jeugd\, SVO
DESCRIPTION:
URL:https://www.dorpsraadoostrum.nl/kalender/programma-jeugd-svo-3/
ORGANIZER;CN="S.V. Oostrum":MAILTO:info@svoostrum.nl
END:VEVENT
BEGIN:VEVENT
DTSTART;TZID=Europe/Amsterdam:20260507T090000
DTEND;TZID=Europe/Amsterdam:20260507T090000
DTSTAMP:20260425T164552
CREATED:20260331T130038Z
LAST-MODIFIED:20260331T130038Z
UID:25585-1778144400-1778144400@www.dorpsraadoostrum.nl
SUMMARY:Biljarten\, VOS
DESCRIPTION:
URL:https://www.dorpsraadoostrum.nl/kalender/biljarten-vos-6/
LOCATION:De Watermolen\, Campsmolen\, Buitenhof 2\, Oostrum\, Limburg\, 5807BW\, Netherlands
END:VEVENT
BEGIN:VEVENT
DTSTART;TZID=Europe/Amsterdam:20260507T140000
DTEND;TZID=Europe/Amsterdam:20260507T140000
DTSTAMP:20260425T164552
CREATED:20260331T133525Z
LAST-MODIFIED:20260414T124105Z
UID:25633-1778162400-1778162400@www.dorpsraadoostrum.nl
SUMMARY:PRESENTATIE STICHTING WENSAMBULANCE LIMBURG - DONDERDAG 7 MEI\, VOS
DESCRIPTION:
URL:https://www.dorpsraadoostrum.nl/kalender/wensambulance-vos/
LOCATION:De Watermolen\, Campsmolen\, Buitenhof 2\, Oostrum\, Limburg\, 5807BW\, Netherlands
END:VEVENT
BEGIN:VEVENT
DTSTART;TZID=Europe/Amsterdam:20260508T193000
DTEND;TZID=Europe/Amsterdam:20260508T223000
DTSTAMP:20260425T164552
CREATED:20260414T130555Z
LAST-MODIFIED:20260421T132757Z
UID:25760-1778268600-1778279400@www.dorpsraadoostrum.nl
SUMMARY:Soos: Pubquiz\, Jeugd Soos Oostrum
DESCRIPTION:
URL:https://www.dorpsraadoostrum.nl/kalender/soos-pubquiz-jeugd-soos-oostrum/
LOCATION:Dorps Service Centrum D’n Oesterham\, Watermolenstraat 1\, Oostrum\, Limburg\, 5807 BJ\, Netherlands
END:VEVENT
BEGIN:VEVENT
DTSTART;TZID=Europe/Amsterdam:20260508T193000
DTEND;TZID=Europe/Amsterdam:20260508T223000
DTSTAMP:20260425T164552
CREATED:20260424T222123Z
LAST-MODIFIED:20260424T222123Z
UID:25787-1778268600-1778279400@www.dorpsraadoostrum.nl
SUMMARY:Programma Senioren\, SVO
DESCRIPTION:
URL:https://www.dorpsraadoostrum.nl/kalender/programma-senioren-svo/
ORGANIZER;CN="S.V. Oostrum":MAILTO:info@svoostrum.nl
END:VEVENT
BEGIN:VEVENT
DTSTART;TZID=Europe/Amsterdam:20260509T084500
DTEND;TZID=Europe/Amsterdam:20260509T164500
DTSTAMP:20260425T164552
CREATED:20260425T134103Z
LAST-MODIFIED:20260425T134103Z
UID:25789-1778316300-1778345100@www.dorpsraadoostrum.nl
SUMMARY:Programma Jeugd\, SVO
DESCRIPTION:
URL:https://www.dorpsraadoostrum.nl/kalender/programma-jeugd-svo-4/
ORGANIZER;CN="S.V. Oostrum":MAILTO:info@svoostrum.nl
END:VEVENT
BEGIN:VEVENT
DTSTART;TZID=Europe/Amsterdam:20260509T090000
DTEND;TZID=Europe/Amsterdam:20260509T120000
DTSTAMP:20260425T164552
CREATED:20260331T153758Z
LAST-MODIFIED:20260331T153758Z
UID:25696-1778317200-1778328000@www.dorpsraadoostrum.nl
SUMMARY:Inzamelen Oud Papier\, SMT
DESCRIPTION:
URL:https://www.dorpsraadoostrum.nl/kalender/inzamelen-oud-papier-smt-3/
LOCATION:Parkeerplaats ter hoogte van Gildestraat 24\, Oostrum\, Gildestraat 24\, Oostrum\, Limburg\, 5807BH\, Netherlands
END:VEVENT
BEGIN:VEVENT
DTSTART;TZID=Europe/Amsterdam:20260512T140000
DTEND;TZID=Europe/Amsterdam:20260512T140000
DTSTAMP:20260425T164552
CREATED:20260331T133649Z
LAST-MODIFIED:20260331T133649Z
UID:25636-1778594400-1778594400@www.dorpsraadoostrum.nl
SUMMARY:Kienen\, VOS
DESCRIPTION:
URL:https://www.dorpsraadoostrum.nl/kalender/kienen-vos-2/
LOCATION:De Watermolen\, Campsmolen\, Buitenhof 2\, Oostrum\, Limburg\, 5807BW\, Netherlands
END:VEVENT
BEGIN:VEVENT
DTSTART;TZID=Europe/Amsterdam:20260512T200000
DTEND;TZID=Europe/Amsterdam:20260512T200000
DTSTAMP:20260425T164552
CREATED:20260414T125849Z
LAST-MODIFIED:20260414T125849Z
UID:25755-1778616000-1778616000@www.dorpsraadoostrum.nl
SUMMARY:Betere foto's maken met telefoon (AI)\, ZijActief Oostrum
DESCRIPTION:
URL:https://www.dorpsraadoostrum.nl/kalender/betere-fotos-maken-met-telefoon-ai-zijactief-oostrum/
LOCATION:Dorps Service Centrum D’n Oesterham\, Watermolenstraat 1\, Oostrum\, Limburg\, 5807 BJ\, Netherlands
ORGANIZER;CN="ZijActief Oostrum":MAILTO:secr.zijactiefoostrum@hotmail.com
END:VEVENT
BEGIN:VEVENT
DTSTART;TZID=Europe/Amsterdam:20260513T084500
DTEND;TZID=Europe/Amsterdam:20260513T091500
DTSTAMP:20260425T164552
CREATED:20260331T131014Z
LAST-MODIFIED:20260331T131014Z
UID:25601-1778661900-1778663700@www.dorpsraadoostrum.nl
SUMMARY:Bewegen\, VOS
DESCRIPTION:
URL:https://www.dorpsraadoostrum.nl/kalender/bewegen-vos-7/
LOCATION:De Watermolen\, Campsmolen\, Buitenhof 2\, Oostrum\, Limburg\, 5807BW\, Netherlands
END:VEVENT
BEGIN:VEVENT
DTSTART;TZID=Europe/Amsterdam:20260513T093000
DTEND;TZID=Europe/Amsterdam:20260513T113000
DTSTAMP:20260425T164552
CREATED:20260331T131803Z
LAST-MODIFIED:20260331T131803Z
UID:25617-1778664600-1778671800@www.dorpsraadoostrum.nl
SUMMARY:Inloopmorgen\, VOS
DESCRIPTION:
URL:https://www.dorpsraadoostrum.nl/kalender/inloopmorgen-vos-7/
LOCATION:De Watermolen\, Campsmolen\, Buitenhof 2\, Oostrum\, Limburg\, 5807BW\, Netherlands
END:VEVENT
BEGIN:VEVENT
DTSTART;TZID=Europe/Amsterdam:20260513T120000
DTEND;TZID=Europe/Amsterdam:20260513T120000
DTSTAMP:20260425T164552
CREATED:20260414T125624Z
LAST-MODIFIED:20260414T125624Z
UID:25753-1778673600-1778673600@www.dorpsraadoostrum.nl
SUMMARY:Eetpunt d'n Oesterham\, D'n Oesterham
DESCRIPTION:
URL:https://www.dorpsraadoostrum.nl/kalender/eetpunt-dn-oesterham-dn-oesterham-2/
LOCATION:Dorps Service Centrum D’n Oesterham\, Watermolenstraat 1\, Oostrum\, Limburg\, 5807 BJ\, Netherlands
END:VEVENT
END:VCALENDAR