BEGIN:VCALENDAR
VERSION:2.0
PRODID:-//Dorpsraad Oostrum - ECPv6.10.2//NONSGML v1.0//EN
CALSCALE:GREGORIAN
METHOD:PUBLISH
X-ORIGINAL-URL:https://www.dorpsraadoostrum.nl
X-WR-CALDESC:Evenementen voor Dorpsraad Oostrum
REFRESH-INTERVAL;VALUE=DURATION:PT1H
X-Robots-Tag:noindex
X-PUBLISHED-TTL:PT1H
BEGIN:VTIMEZONE
TZID:Europe/Amsterdam
BEGIN:DAYLIGHT
TZOFFSETFROM:+0100
TZOFFSETTO:+0200
TZNAME:CEST
DTSTART:20260329T010000
END:DAYLIGHT
BEGIN:STANDARD
TZOFFSETFROM:+0200
TZOFFSETTO:+0100
TZNAME:CET
DTSTART:20261025T010000
END:STANDARD
END:VTIMEZONE
BEGIN:VEVENT
DTSTART;VALUE=DATE:20260625
DTEND;VALUE=DATE:20260626
DTSTAMP:20260426T000041
CREATED:20260331T134325Z
LAST-MODIFIED:20260331T134325Z
UID:25642-1782345600-1782431999@www.dorpsraadoostrum.nl
SUMMARY:Fietstocht met picknick\, VOS
DESCRIPTION:
URL:https://www.dorpsraadoostrum.nl/kalender/fietstocht-met-picknick-vos/
END:VEVENT
BEGIN:VEVENT
DTSTART;TZID=Europe/Amsterdam:20260625T090000
DTEND;TZID=Europe/Amsterdam:20260625T090000
DTSTAMP:20260426T000041
CREATED:20260331T130638Z
LAST-MODIFIED:20260331T130638Z
UID:25593-1782378000-1782378000@www.dorpsraadoostrum.nl
SUMMARY:Biljarten\, VOS
DESCRIPTION:
URL:https://www.dorpsraadoostrum.nl/kalender/biljarten-vos-13/
LOCATION:De Watermolen\, Campsmolen\, Buitenhof 2\, Oostrum\, Limburg\, 5807BW\, Netherlands
END:VEVENT
BEGIN:VEVENT
DTSTART;TZID=Europe/Amsterdam:20260625T200000
DTEND;TZID=Europe/Amsterdam:20260625T200000
DTSTAMP:20260426T000041
CREATED:20260111T174412Z
LAST-MODIFIED:20260302T141242Z
UID:25001-1782417600-1782417600@www.dorpsraadoostrum.nl
SUMMARY:Openlucht repetitie koor Harmony
DESCRIPTION:
URL:https://www.dorpsraadoostrum.nl/kalender/openlucht-repetitie-koor-harmony/
LOCATION:De Watermolen\, Campsmolen\, Buitenhof 2\, Oostrum\, Limburg\, 5807BW\, Netherlands
ORGANIZER;CN="Dorpsraad Oostrum":MAILTO:info@dorpsraadoostrum.nl
END:VEVENT
END:VCALENDAR