BEGIN:VCALENDAR
VERSION:2.0
PRODID:-//Dorpsraad Oostrum - ECPv6.10.2//NONSGML v1.0//EN
CALSCALE:GREGORIAN
METHOD:PUBLISH
X-ORIGINAL-URL:https://www.dorpsraadoostrum.nl
X-WR-CALDESC:Evenementen voor Dorpsraad Oostrum
REFRESH-INTERVAL;VALUE=DURATION:PT1H
X-Robots-Tag:noindex
X-PUBLISHED-TTL:PT1H
BEGIN:VTIMEZONE
TZID:Europe/Amsterdam
BEGIN:DAYLIGHT
TZOFFSETFROM:+0100
TZOFFSETTO:+0200
TZNAME:CEST
DTSTART:20260329T010000
END:DAYLIGHT
BEGIN:STANDARD
TZOFFSETFROM:+0200
TZOFFSETTO:+0100
TZNAME:CET
DTSTART:20261025T010000
END:STANDARD
END:VTIMEZONE
BEGIN:VEVENT
DTSTART;TZID=Europe/Amsterdam:20260610T084500
DTEND;TZID=Europe/Amsterdam:20260610T091500
DTSTAMP:20260426T000032
CREATED:20260331T131308Z
LAST-MODIFIED:20260331T131308Z
UID:25597-1781081100-1781082900@www.dorpsraadoostrum.nl
SUMMARY:Bewegen\, VOS
DESCRIPTION:
URL:https://www.dorpsraadoostrum.nl/kalender/bewegen-vos-11/
LOCATION:De Watermolen\, Campsmolen\, Buitenhof 2\, Oostrum\, Limburg\, 5807BW\, Netherlands
END:VEVENT
BEGIN:VEVENT
DTSTART;TZID=Europe/Amsterdam:20260610T093000
DTEND;TZID=Europe/Amsterdam:20260610T113000
DTSTAMP:20260426T000032
CREATED:20260331T132051Z
LAST-MODIFIED:20260331T132051Z
UID:25613-1781083800-1781091000@www.dorpsraadoostrum.nl
SUMMARY:Inloopmorgen\, VOS
DESCRIPTION:
URL:https://www.dorpsraadoostrum.nl/kalender/inloopmorgen-vos-11/
LOCATION:De Watermolen\, Campsmolen\, Buitenhof 2\, Oostrum\, Limburg\, 5807BW\, Netherlands
END:VEVENT
END:VCALENDAR