BEGIN:VCALENDAR
VERSION:2.0
PRODID:-//Dorpsraad Oostrum - ECPv6.10.2//NONSGML v1.0//EN
CALSCALE:GREGORIAN
METHOD:PUBLISH
X-ORIGINAL-URL:https://www.dorpsraadoostrum.nl
X-WR-CALDESC:Evenementen voor Dorpsraad Oostrum
REFRESH-INTERVAL;VALUE=DURATION:PT1H
X-Robots-Tag:noindex
X-PUBLISHED-TTL:PT1H
BEGIN:VTIMEZONE
TZID:Europe/Amsterdam
BEGIN:DAYLIGHT
TZOFFSETFROM:+0100
TZOFFSETTO:+0200
TZNAME:CEST
DTSTART:20260329T010000
END:DAYLIGHT
BEGIN:STANDARD
TZOFFSETFROM:+0200
TZOFFSETTO:+0100
TZNAME:CET
DTSTART:20261025T010000
END:STANDARD
END:VTIMEZONE
BEGIN:VEVENT
DTSTART;TZID=Europe/Amsterdam:20260608T190000
DTEND;TZID=Europe/Amsterdam:20260608T190000
DTSTAMP:20260426T000033
CREATED:20260414T125332Z
LAST-MODIFIED:20260414T125332Z
UID:25749-1780945200-1780945200@www.dorpsraadoostrum.nl
SUMMARY:“Snoepjesconcert”\, Het Klassenorkest o.l.v. Sandra Lucassen\, enkele leerlingen en S.M.T. onder leiding van Hub Nickel
DESCRIPTION:
URL:https://www.dorpsraadoostrum.nl/kalender/snoepjesconcert-het-klassenorkest-o-l-v-sandra-lucassen-enkele-leerlingen-en-s-m-t-onder-leiding-van-hub-nickel/
LOCATION:Dorps Service Centrum D’n Oesterham\, Watermolenstraat 1\, Oostrum\, Limburg\, 5807 BJ\, Netherlands
END:VEVENT
END:VCALENDAR