BEGIN:VCALENDAR
VERSION:2.0
PRODID:-//Dorpsraad Oostrum - ECPv6.10.2//NONSGML v1.0//EN
CALSCALE:GREGORIAN
METHOD:PUBLISH
X-WR-CALNAME:Dorpsraad Oostrum
X-ORIGINAL-URL:https://www.dorpsraadoostrum.nl
X-WR-CALDESC:Evenementen voor Dorpsraad Oostrum
REFRESH-INTERVAL;VALUE=DURATION:PT1H
X-Robots-Tag:noindex
X-PUBLISHED-TTL:PT1H
BEGIN:VTIMEZONE
TZID:Europe/Amsterdam
BEGIN:DAYLIGHT
TZOFFSETFROM:+0100
TZOFFSETTO:+0200
TZNAME:CEST
DTSTART:20260329T010000
END:DAYLIGHT
BEGIN:STANDARD
TZOFFSETFROM:+0200
TZOFFSETTO:+0100
TZNAME:CET
DTSTART:20261025T010000
END:STANDARD
END:VTIMEZONE
BEGIN:VEVENT
DTSTART;TZID=Europe/Amsterdam:20260531T093000
DTEND;TZID=Europe/Amsterdam:20260531T093000
DTSTAMP:20260425T222334
CREATED:20260331T153717Z
LAST-MODIFIED:20260331T153717Z
UID:25694-1780219800-1780219800@www.dorpsraadoostrum.nl
SUMMARY:Mariaviering\, SMT
DESCRIPTION:
URL:https://www.dorpsraadoostrum.nl/kalender/mariaviering-smt/
LOCATION:OLV Geboorte Kerk\, Oostrum\, Mgr. Hanssenstraat 22\, Oostrum\, Limburg\, 5807BD\, Nederland
END:VEVENT
BEGIN:VEVENT
DTSTART;TZID=Europe/Amsterdam:20260531T093000
DTEND;TZID=Europe/Amsterdam:20260531T103000
DTSTAMP:20260425T222334
CREATED:20260331T152354Z
LAST-MODIFIED:20260331T152354Z
UID:25668-1780219800-1780223400@www.dorpsraadoostrum.nl
SUMMARY:Mariaviering\, Parochie
DESCRIPTION:
URL:https://www.dorpsraadoostrum.nl/kalender/mariaviering-parochie/
LOCATION:OLV Geboorte Kerk\, Oostrum\, Mgr. Hanssenstraat 22\, Oostrum\, Limburg\, 5807BD\, Nederland
ORGANIZER;CN="Federatie Maria Boodschap":MAILTO:info@Maria-Boodschap.nl
END:VEVENT
END:VCALENDAR