BEGIN:VCALENDAR
VERSION:2.0
PRODID:-//Dorpsraad Oostrum - ECPv6.10.2//NONSGML v1.0//EN
CALSCALE:GREGORIAN
METHOD:PUBLISH
X-ORIGINAL-URL:https://www.dorpsraadoostrum.nl
X-WR-CALDESC:Evenementen voor Dorpsraad Oostrum
REFRESH-INTERVAL;VALUE=DURATION:PT1H
X-Robots-Tag:noindex
X-PUBLISHED-TTL:PT1H
BEGIN:VTIMEZONE
TZID:Europe/Amsterdam
BEGIN:DAYLIGHT
TZOFFSETFROM:+0100
TZOFFSETTO:+0200
TZNAME:CEST
DTSTART:20260329T010000
END:DAYLIGHT
BEGIN:STANDARD
TZOFFSETFROM:+0200
TZOFFSETTO:+0100
TZNAME:CET
DTSTART:20261025T010000
END:STANDARD
END:VTIMEZONE
BEGIN:VEVENT
DTSTART;TZID=Europe/Amsterdam:20260520T084500
DTEND;TZID=Europe/Amsterdam:20260520T091500
DTSTAMP:20260425T221659
CREATED:20260331T131103Z
LAST-MODIFIED:20260331T131103Z
UID:25600-1779266700-1779268500@www.dorpsraadoostrum.nl
SUMMARY:Bewegen\, VOS
DESCRIPTION:
URL:https://www.dorpsraadoostrum.nl/kalender/bewegen-vos-8/
LOCATION:De Watermolen\, Campsmolen\, Buitenhof 2\, Oostrum\, Limburg\, 5807BW\, Netherlands
END:VEVENT
BEGIN:VEVENT
DTSTART;TZID=Europe/Amsterdam:20260520T093000
DTEND;TZID=Europe/Amsterdam:20260520T113000
DTSTAMP:20260425T221659
CREATED:20260331T131842Z
LAST-MODIFIED:20260331T131842Z
UID:25616-1779269400-1779276600@www.dorpsraadoostrum.nl
SUMMARY:Inloopmorgen\, VOS
DESCRIPTION:
URL:https://www.dorpsraadoostrum.nl/kalender/inloopmorgen-vos-8/
LOCATION:De Watermolen\, Campsmolen\, Buitenhof 2\, Oostrum\, Limburg\, 5807BW\, Netherlands
END:VEVENT
END:VCALENDAR